BEGIN:VCALENDAR
VERSION:2.0
PRODID:-//LgndryGroup - ECPv6.15.18//NONSGML v1.0//EN
CALSCALE:GREGORIAN
METHOD:PUBLISH
X-WR-CALNAME:LgndryGroup
X-ORIGINAL-URL:https://www.lgndrygroup.com
X-WR-CALDESC:Events for LgndryGroup
REFRESH-INTERVAL;VALUE=DURATION:PT1H
X-Robots-Tag:noindex
X-PUBLISHED-TTL:PT1H
BEGIN:VTIMEZONE
TZID:America/Los_Angeles
BEGIN:DAYLIGHT
TZOFFSETFROM:-0800
TZOFFSETTO:-0700
TZNAME:PDT
DTSTART:20250309T100000
END:DAYLIGHT
BEGIN:STANDARD
TZOFFSETFROM:-0700
TZOFFSETTO:-0800
TZNAME:PST
DTSTART:20251102T090000
END:STANDARD
BEGIN:DAYLIGHT
TZOFFSETFROM:-0800
TZOFFSETTO:-0700
TZNAME:PDT
DTSTART:20260308T100000
END:DAYLIGHT
BEGIN:STANDARD
TZOFFSETFROM:-0700
TZOFFSETTO:-0800
TZNAME:PST
DTSTART:20261101T090000
END:STANDARD
BEGIN:DAYLIGHT
TZOFFSETFROM:-0800
TZOFFSETTO:-0700
TZNAME:PDT
DTSTART:20270314T100000
END:DAYLIGHT
BEGIN:STANDARD
TZOFFSETFROM:-0700
TZOFFSETTO:-0800
TZNAME:PST
DTSTART:20271107T090000
END:STANDARD
END:VTIMEZONE
BEGIN:VEVENT
DTSTART;TZID=America/Los_Angeles:20260521T210000
DTEND;TZID=America/Los_Angeles:20260522T020000
DTSTAMP:20260423T112847
CREATED:20260423T040817Z
LAST-MODIFIED:20260423T041743Z
UID:10716-1779397200-1779415200@www.lgndrygroup.com
SUMMARY:House Party Thursdays @ Sidebar
DESCRIPTION:
URL:https://www.lgndrygroup.com/event/house-party-thursdays-sidebar-5-21-2026/
LOCATION:SideBar Nightclub San Diego\, 536 Market Street\, San Diego\, CA\, 92101\, United States
CATEGORIES:Monday
ATTACH;FMTTYPE=image/webp:https://www.lgndrygroup.com/wp-content/uploads/2025/07/House-Party-Thursdays-@-Sidebar-1.webp
END:VEVENT
END:VCALENDAR